




BEGIN:VCALENDAR
VERSION:2.0
PRODID:-//Kicks Tenpin &amp; Arcade - ECPv6.15.20//NONSGML v1.0//EN
CALSCALE:GREGORIAN
METHOD:PUBLISH
X-ORIGINAL-URL:https://kickstenpin.com.au
X-WR-CALDESC:Events for Kicks Tenpin &amp; Arcade
REFRESH-INTERVAL;VALUE=DURATION:PT1H
X-Robots-Tag:noindex
X-PUBLISHED-TTL:PT1H
BEGIN:VTIMEZONE
TZID:UTC
BEGIN:STANDARD
TZOFFSETFROM:+0000
TZOFFSETTO:+0000
TZNAME:UTC
DTSTART:20200101T000000
END:STANDARD
END:VTIMEZONE
BEGIN:VEVENT
DTSTART;TZID=UTC:20210201T190000
DTEND;TZID=UTC:20210201T200000
DTSTAMP:20260421T090509
CREATED:20210214T124233Z
LAST-MODIFIED:20210214T145148Z
UID:38323-1612206000-1612209600@kickstenpin.com.au
SUMMARY:Online Trivia
DESCRIPTION:Where: Online on Zoom\nCost: Free \nWin a share of $200 in Food and Beverage points OR dining vouchers (for non-Members) every Monday night! There are 6 rounds of pub trivia to enjoy from the comfort of your home. You can play as a team or individual. The quicker you answer the questions\, the more points you score! \nHOW TO PLAY \n\nVisit Parra Leagues on Facebook to access the Zoom link (or click here) from 6:45pm AEST. You can chat with the Trivia host on the latest Facebook post.\nInstall Zoom on your preferred device to watch Online Trivia.\nOn Zoom\, the Trivia host will provide a code that you need to join the game.\nVisit crowd.live to register and play for FREE on your preferred device.\nEnjoy Trivia from 7pm AEST!\n\nNeed help with how to play Free Online Trivia\, don’t worry Tim is here!! \nhttps://www.parraleagues.com.au/content/uploads/2020/11/How-to-with-Tim.mp4\n  \nPrizes are to be collected from 9am each Wednesday morning following Online Trivia at CLUBSHOP. Winners have 1 x week to collect the prize at their own expense from Parramatta Leagues Club only.  \nSubject to change. By participating in Online Trivia you are subscribing to the Parra Leagues email database. \nAll winners must sign in at Parra Leagues Reception AND scan-in through the Service NSW app to claim their prizes
URL:https://kickstenpin.com.au/event/online-trivia/2021-02-01/
CATEGORIES:Weekly Activities
ATTACH;FMTTYPE=image/jpeg:https://kickstenpin.com.au/wp-content/uploads/2021/02/online-trivia-web.jpg
END:VEVENT
END:VCALENDAR