




BEGIN:VCALENDAR
VERSION:2.0
PRODID:-//Kicks Tenpin &amp; Arcade - ECPv6.15.20//NONSGML v1.0//EN
CALSCALE:GREGORIAN
METHOD:PUBLISH
X-ORIGINAL-URL:https://kickstenpin.com.au
X-WR-CALDESC:Events for Kicks Tenpin &amp; Arcade
REFRESH-INTERVAL;VALUE=DURATION:PT1H
X-Robots-Tag:noindex
X-PUBLISHED-TTL:PT1H
BEGIN:VTIMEZONE
TZID:UTC
BEGIN:STANDARD
TZOFFSETFROM:+0000
TZOFFSETTO:+0000
TZNAME:UTC
DTSTART:20200101T000000
END:STANDARD
END:VTIMEZONE
BEGIN:VEVENT
DTSTART;TZID=UTC:20210202T180000
DTEND;TZID=UTC:20210202T180000
DTSTAMP:20260421T090542
CREATED:20210214T123801Z
LAST-MODIFIED:20210214T134559Z
UID:38308-1612288800-1612288800@kickstenpin.com.au
SUMMARY:Members Forum
DESCRIPTION:Send us your questions via direct message on Facebook or Instagram and Tim Mannah will answer your questions. \nWhere: On Facebook Live\nHow: You send us questions via direct message on Facebook or Instagram\nAnswers: Questions submitted by Monday prior 11.59pm will be answered* \n*Tim will be live for a maximum of 10 minutes answering your questions about Parra Leagues Club. We will do our best to answer as many questions possible in the allocated time. Inappropriate or irrelevant questions will be ignored.
URL:https://kickstenpin.com.au/event/members-forum/2021-02-02/
CATEGORIES:Weekly Activities
ATTACH;FMTTYPE=image/jpeg:https://kickstenpin.com.au/wp-content/uploads/2021/02/Members_Forum_FB_IG_Square-2.0.jpg
END:VEVENT
END:VCALENDAR