




BEGIN:VCALENDAR
VERSION:2.0
PRODID:-//Kicks Tenpin &amp; Arcade - ECPv6.15.20//NONSGML v1.0//EN
CALSCALE:GREGORIAN
METHOD:PUBLISH
X-ORIGINAL-URL:https://kickstenpin.com.au
X-WR-CALDESC:Events for Kicks Tenpin &amp; Arcade
REFRESH-INTERVAL;VALUE=DURATION:PT1H
X-Robots-Tag:noindex
X-PUBLISHED-TTL:PT1H
BEGIN:VTIMEZONE
TZID:UTC
BEGIN:STANDARD
TZOFFSETFROM:+0000
TZOFFSETTO:+0000
TZNAME:UTC
DTSTART:20200101T000000
END:STANDARD
END:VTIMEZONE
BEGIN:VEVENT
DTSTART;TZID=UTC:20211217T100000
DTEND;TZID=UTC:20211217T213000
DTSTAMP:20260420T101836
CREATED:20211228T185020Z
LAST-MODIFIED:20211230T135829Z
UID:43218-1639735200-1639776600@kickstenpin.com.au
SUMMARY:Fun Bundle
DESCRIPTION:School holiday fun at Parra Leagues. Located on level 3 inside Parra Leagues Kicks has the ultimate bundle for school holiday boredom busters. \nFor $35 per child: \n1 Game of Bowling \n1 XD Dark Ride \n30 Mins Arcade Play \n+ Pie or Sausage Roll and a drink. \nBook online now \nValid until end of School Holidays. Full terms and conditions available at reception. Only for children 10 and under\, subject to change. No further Member discount can be applied.
URL:https://kickstenpin.com.au/event/fun-bundle/2021-12-17/
CATEGORIES:Promotions
ATTACH;FMTTYPE=image/jpeg:https://kickstenpin.com.au/wp-content/uploads/2021/12/Web-square-copy.jpg
END:VEVENT
END:VCALENDAR